BEGIN:VCALENDAR

VERSION:2.0

PRODID:-//hacksw/handcal//NONSGML v1.0//EN

BEGIN:VEVENT

UID:1d7ef804968d38ff864449cab65c9311

DTSTAMP:20260424T132314Z

DTSTART:20260427T164500

DTEND:20260427T170000

SUMMARY:IRE5979976 - 10 Woodland Street, Lara VIC 3212

LOCATION:10 Woodland Street, Lara VIC 3212

END:VEVENT

END:VCALENDAR